BEGIN:VCALENDAR
VERSION:2.0
PRODID:-//ESV Rode Lopers - ECPv6.15.20//NONSGML v1.0//EN
CALSCALE:GREGORIAN
METHOD:PUBLISH
X-ORIGINAL-URL:https://esvrodelopers.eu
X-WR-CALDESC:Evenementen voor ESV Rode Lopers
REFRESH-INTERVAL;VALUE=DURATION:PT1H
X-Robots-Tag:noindex
X-PUBLISHED-TTL:PT1H
BEGIN:VTIMEZONE
TZID:UTC
BEGIN:STANDARD
TZOFFSETFROM:+0000
TZOFFSETTO:+0000
TZNAME:UTC
DTSTART:20250101T000000
END:STANDARD
END:VTIMEZONE
BEGIN:VTIMEZONE
TZID:Europe/Amsterdam
BEGIN:DAYLIGHT
TZOFFSETFROM:+0100
TZOFFSETTO:+0200
TZNAME:CEST
DTSTART:20250330T010000
END:DAYLIGHT
BEGIN:STANDARD
TZOFFSETFROM:+0200
TZOFFSETTO:+0100
TZNAME:CET
DTSTART:20251026T010000
END:STANDARD
BEGIN:DAYLIGHT
TZOFFSETFROM:+0100
TZOFFSETTO:+0200
TZNAME:CEST
DTSTART:20260329T010000
END:DAYLIGHT
BEGIN:STANDARD
TZOFFSETFROM:+0200
TZOFFSETTO:+0100
TZNAME:CET
DTSTART:20261025T010000
END:STANDARD
BEGIN:DAYLIGHT
TZOFFSETFROM:+0100
TZOFFSETTO:+0200
TZNAME:CEST
DTSTART:20270328T010000
END:DAYLIGHT
BEGIN:STANDARD
TZOFFSETFROM:+0200
TZOFFSETTO:+0100
TZNAME:CET
DTSTART:20271031T010000
END:STANDARD
END:VTIMEZONE
BEGIN:VEVENT
DTSTART;TZID=UTC:20260206T203000
DTEND;TZID=UTC:20260206T203000
DTSTAMP:20260420T001401
CREATED:20250716T105957Z
LAST-MODIFIED:20250716T105957Z
UID:267-1770409800-1770409800@esvrodelopers.eu
SUMMARY:Volwassenen - Interne competitie
DESCRIPTION:
URL:https://esvrodelopers.eu/event/volwassenen-interne-competitie-9/
LOCATION:Activiteitencentrum Dommelbergen\, Arkendonk 90\, Oosterhout\, 4907 XP\, Netherlands
CATEGORIES:Volwassenen
END:VEVENT
BEGIN:VEVENT
DTSTART;TZID=Europe/Amsterdam:20260206T204500
DTEND;TZID=Europe/Amsterdam:20260206T221500
DTSTAMP:20260420T001401
CREATED:20251122T202835Z
LAST-MODIFIED:20251122T202835Z
UID:817-1770410700-1770416100@esvrodelopers.eu
SUMMARY:Schaaklessen voor volwassenen
DESCRIPTION:
URL:https://esvrodelopers.eu/event/schaaklessen-voor-volwassenen-3/
CATEGORIES:Promotie,Volwassenen
END:VEVENT
BEGIN:VEVENT
DTSTART;TZID=UTC:20260227T203000
DTEND;TZID=UTC:20260227T203000
DTSTAMP:20260420T001401
CREATED:20250716T110129Z
LAST-MODIFIED:20250716T110129Z
UID:269-1772224200-1772224200@esvrodelopers.eu
SUMMARY:Volwassenen - Interne competitie
DESCRIPTION:
URL:https://esvrodelopers.eu/event/volwassenen-interne-competitie-10/
LOCATION:Activiteitencentrum Dommelbergen\, Arkendonk 90\, Oosterhout\, 4907 XP\, Netherlands
CATEGORIES:Volwassenen
END:VEVENT
BEGIN:VEVENT
DTSTART;TZID=UTC:20260306T203000
DTEND;TZID=UTC:20260306T203000
DTSTAMP:20260420T001401
CREATED:20250716T110129Z
LAST-MODIFIED:20250716T110129Z
UID:270-1772829000-1772829000@esvrodelopers.eu
SUMMARY:Volwassenen - Interne competitie
DESCRIPTION:
URL:https://esvrodelopers.eu/event/volwassenen-interne-competitie-11/
LOCATION:Activiteitencentrum Dommelbergen\, Arkendonk 90\, Oosterhout\, 4907 XP\, Netherlands
CATEGORIES:Volwassenen
END:VEVENT
BEGIN:VEVENT
DTSTART;TZID=UTC:20260313T203000
DTEND;TZID=UTC:20260313T203000
DTSTAMP:20260420T001401
CREATED:20250716T110129Z
LAST-MODIFIED:20250716T110129Z
UID:271-1773433800-1773433800@esvrodelopers.eu
SUMMARY:Volwassenen - Interne competitie
DESCRIPTION:
URL:https://esvrodelopers.eu/event/volwassenen-interne-competitie-12/
LOCATION:Activiteitencentrum Dommelbergen\, Arkendonk 90\, Oosterhout\, 4907 XP\, Netherlands
CATEGORIES:Volwassenen
END:VEVENT
BEGIN:VEVENT
DTSTART;TZID=UTC:20260320T203000
DTEND;TZID=UTC:20260320T203000
DTSTAMP:20260420T001401
CREATED:20250716T110129Z
LAST-MODIFIED:20260207T205042Z
UID:272-1774038600-1774038600@esvrodelopers.eu
SUMMARY:Volwassenen - Rapidschaken
DESCRIPTION:
URL:https://esvrodelopers.eu/event/volwassenen-interne-competitie-13/
LOCATION:Activiteitencentrum Dommelbergen\, Arkendonk 90\, Oosterhout\, 4907 XP\, Netherlands
CATEGORIES:Volwassenen
END:VEVENT
BEGIN:VEVENT
DTSTART;TZID=UTC:20260320T203000
DTEND;TZID=UTC:20260320T203000
DTSTAMP:20260420T001401
CREATED:20250716T110143Z
LAST-MODIFIED:20260202T232505Z
UID:275-1774038600-1774038600@esvrodelopers.eu
SUMMARY:Opzetten Oelbert
DESCRIPTION:
URL:https://esvrodelopers.eu/event/opzetten-oelbert/
LOCATION:Activiteitencentrum Dommelbergen\, Arkendonk 90\, Oosterhout\, 4907 XP\, Netherlands
CATEGORIES:Volwassenen
END:VEVENT
BEGIN:VEVENT
DTSTART;TZID=UTC:20260327T203000
DTEND;TZID=UTC:20260327T203000
DTSTAMP:20260420T001401
CREATED:20250716T110143Z
LAST-MODIFIED:20250716T110143Z
UID:273-1774643400-1774643400@esvrodelopers.eu
SUMMARY:Volwassenen - Interne competitie
DESCRIPTION:
URL:https://esvrodelopers.eu/event/volwassenen-interne-competitie-14/
LOCATION:Activiteitencentrum Dommelbergen\, Arkendonk 90\, Oosterhout\, 4907 XP\, Netherlands
CATEGORIES:Volwassenen
END:VEVENT
BEGIN:VEVENT
DTSTART;TZID=UTC:20260403T203000
DTEND;TZID=UTC:20260403T203000
DTSTAMP:20260420T001401
CREATED:20250716T110143Z
LAST-MODIFIED:20260207T205115Z
UID:274-1775248200-1775248200@esvrodelopers.eu
SUMMARY:Volwassenen - Interne Competitie
DESCRIPTION:
URL:https://esvrodelopers.eu/event/volwassenen-rapidschaken-3/
LOCATION:Activiteitencentrum Dommelbergen\, Arkendonk 90\, Oosterhout\, 4907 XP\, Netherlands
CATEGORIES:Volwassenen
END:VEVENT
BEGIN:VEVENT
DTSTART;TZID=UTC:20260410T203000
DTEND;TZID=UTC:20260410T203000
DTSTAMP:20260420T001401
CREATED:20250716T110149Z
LAST-MODIFIED:20260207T204828Z
UID:280-1775853000-1775853000@esvrodelopers.eu
SUMMARY:Volwassenen - Interne competitie
DESCRIPTION:
URL:https://esvrodelopers.eu/event/volwassenen-interne-competitie-17/
LOCATION:Activiteitencentrum Dommelbergen\, Arkendonk 90\, Oosterhout\, 4907 XP\, Netherlands
CATEGORIES:Volwassenen
END:VEVENT
BEGIN:VEVENT
DTSTART;TZID=UTC:20260417T203000
DTEND;TZID=UTC:20260417T203000
DTSTAMP:20260420T001401
CREATED:20250716T110143Z
LAST-MODIFIED:20250716T110143Z
UID:276-1776457800-1776457800@esvrodelopers.eu
SUMMARY:Volwassenen - Rapidschaken
DESCRIPTION:
URL:https://esvrodelopers.eu/event/volwassenen-rapidschaken-4/
LOCATION:Activiteitencentrum Dommelbergen\, Arkendonk 90\, Oosterhout\, 4907 XP\, Netherlands
CATEGORIES:Volwassenen
END:VEVENT
BEGIN:VEVENT
DTSTART;TZID=UTC:20260508T203000
DTEND;TZID=UTC:20260508T203000
DTSTAMP:20260420T001401
CREATED:20250716T110143Z
LAST-MODIFIED:20250716T110143Z
UID:277-1778272200-1778272200@esvrodelopers.eu
SUMMARY:Volwassenen - Snelschaken
DESCRIPTION:
URL:https://esvrodelopers.eu/event/volwassenen-snelschaken-2/
LOCATION:Activiteitencentrum Dommelbergen\, Arkendonk 90\, Oosterhout\, 4907 XP\, Netherlands
CATEGORIES:Volwassenen
END:VEVENT
BEGIN:VEVENT
DTSTART;TZID=UTC:20260515T203000
DTEND;TZID=UTC:20260515T203000
DTSTAMP:20260420T001401
CREATED:20250716T110148Z
LAST-MODIFIED:20250716T110148Z
UID:278-1778877000-1778877000@esvrodelopers.eu
SUMMARY:Volwassenen - Interne competitie
DESCRIPTION:
URL:https://esvrodelopers.eu/event/volwassenen-interne-competitie-15/
LOCATION:Activiteitencentrum Dommelbergen\, Arkendonk 90\, Oosterhout\, 4907 XP\, Netherlands
CATEGORIES:Volwassenen
END:VEVENT
BEGIN:VEVENT
DTSTART;TZID=UTC:20260522T203000
DTEND;TZID=UTC:20260522T203000
DTSTAMP:20260420T001401
CREATED:20250716T110149Z
LAST-MODIFIED:20250716T110149Z
UID:279-1779481800-1779481800@esvrodelopers.eu
SUMMARY:Volwassenen - Interne competitie
DESCRIPTION:
URL:https://esvrodelopers.eu/event/volwassenen-interne-competitie-16/
LOCATION:Activiteitencentrum Dommelbergen\, Arkendonk 90\, Oosterhout\, 4907 XP\, Netherlands
CATEGORIES:Volwassenen
END:VEVENT
BEGIN:VEVENT
DTSTART;TZID=UTC:20260529T203000
DTEND;TZID=UTC:20260529T203000
DTSTAMP:20260420T001401
CREATED:20250716T110149Z
LAST-MODIFIED:20260207T204930Z
UID:281-1780086600-1780086600@esvrodelopers.eu
SUMMARY:Interne Competitie
DESCRIPTION:
URL:https://esvrodelopers.eu/event/prijsuitreiking-en-spelletjesavond/
LOCATION:Activiteitencentrum Dommelbergen\, Arkendonk 90\, Oosterhout\, 4907 XP\, Netherlands
CATEGORIES:Volwassenen
END:VEVENT
BEGIN:VEVENT
DTSTART;TZID=Europe/Amsterdam:20260605T203000
DTEND;TZID=Europe/Amsterdam:20260605T203000
DTSTAMP:20260420T001401
CREATED:20260207T210145Z
LAST-MODIFIED:20260207T210355Z
UID:1311-1780691400-1780691400@esvrodelopers.eu
SUMMARY:Volwassenen - Snelschaken
DESCRIPTION:
URL:https://esvrodelopers.eu/event/volwassenen-snelschaken-4/
CATEGORIES:Volwassenen
END:VEVENT
BEGIN:VEVENT
DTSTART;TZID=UTC:20260612T203000
DTEND;TZID=UTC:20260612T203000
DTSTAMP:20260420T001401
CREATED:20250716T110149Z
LAST-MODIFIED:20250716T110149Z
UID:282-1781296200-1781296200@esvrodelopers.eu
SUMMARY:ALV + BBQ
DESCRIPTION:
URL:https://esvrodelopers.eu/event/alv-bbq/
LOCATION:Activiteitencentrum Dommelbergen\, Arkendonk 90\, Oosterhout\, 4907 XP\, Netherlands
CATEGORIES:Volwassenen
END:VEVENT
END:VCALENDAR