BEGIN:VCALENDAR
VERSION:2.0
PRODID:-//ESV Rode Lopers - ECPv6.15.20//NONSGML v1.0//EN
CALSCALE:GREGORIAN
METHOD:PUBLISH
X-ORIGINAL-URL:https://esvrodelopers.eu
X-WR-CALDESC:Evenementen voor ESV Rode Lopers
REFRESH-INTERVAL;VALUE=DURATION:PT1H
X-Robots-Tag:noindex
X-PUBLISHED-TTL:PT1H
BEGIN:VTIMEZONE
TZID:UTC
BEGIN:STANDARD
TZOFFSETFROM:+0000
TZOFFSETTO:+0000
TZNAME:UTC
DTSTART:20250101T000000
END:STANDARD
END:VTIMEZONE
BEGIN:VTIMEZONE
TZID:Europe/Amsterdam
BEGIN:DAYLIGHT
TZOFFSETFROM:+0100
TZOFFSETTO:+0200
TZNAME:CEST
DTSTART:20250330T010000
END:DAYLIGHT
BEGIN:STANDARD
TZOFFSETFROM:+0200
TZOFFSETTO:+0100
TZNAME:CET
DTSTART:20251026T010000
END:STANDARD
BEGIN:DAYLIGHT
TZOFFSETFROM:+0100
TZOFFSETTO:+0200
TZNAME:CEST
DTSTART:20260329T010000
END:DAYLIGHT
BEGIN:STANDARD
TZOFFSETFROM:+0200
TZOFFSETTO:+0100
TZNAME:CET
DTSTART:20261025T010000
END:STANDARD
BEGIN:DAYLIGHT
TZOFFSETFROM:+0100
TZOFFSETTO:+0200
TZNAME:CEST
DTSTART:20270328T010000
END:DAYLIGHT
BEGIN:STANDARD
TZOFFSETFROM:+0200
TZOFFSETTO:+0100
TZNAME:CET
DTSTART:20271031T010000
END:STANDARD
END:VTIMEZONE
BEGIN:VEVENT
DTSTART;TZID=UTC:20260206T203000
DTEND;TZID=UTC:20260206T203000
DTSTAMP:20260419T190850
CREATED:20250716T105957Z
LAST-MODIFIED:20250716T105957Z
UID:267-1770409800-1770409800@esvrodelopers.eu
SUMMARY:Volwassenen - Interne competitie
DESCRIPTION:
URL:https://esvrodelopers.eu/event/volwassenen-interne-competitie-9/
LOCATION:Activiteitencentrum Dommelbergen\, Arkendonk 90\, Oosterhout\, 4907 XP\, Netherlands
CATEGORIES:Volwassenen
END:VEVENT
BEGIN:VEVENT
DTSTART;TZID=Europe/Amsterdam:20260206T204500
DTEND;TZID=Europe/Amsterdam:20260206T221500
DTSTAMP:20260419T190850
CREATED:20251122T202835Z
LAST-MODIFIED:20251122T202835Z
UID:817-1770410700-1770416100@esvrodelopers.eu
SUMMARY:Schaaklessen voor volwassenen
DESCRIPTION:
URL:https://esvrodelopers.eu/event/schaaklessen-voor-volwassenen-3/
CATEGORIES:Promotie,Volwassenen
END:VEVENT
BEGIN:VEVENT
DTSTART;TZID=UTC:20260227T203000
DTEND;TZID=UTC:20260227T203000
DTSTAMP:20260419T190850
CREATED:20250716T110129Z
LAST-MODIFIED:20250716T110129Z
UID:269-1772224200-1772224200@esvrodelopers.eu
SUMMARY:Volwassenen - Interne competitie
DESCRIPTION:
URL:https://esvrodelopers.eu/event/volwassenen-interne-competitie-10/
LOCATION:Activiteitencentrum Dommelbergen\, Arkendonk 90\, Oosterhout\, 4907 XP\, Netherlands
CATEGORIES:Volwassenen
END:VEVENT
END:VCALENDAR